BEGIN:VCALENDAR
VERSION:2.0
PRODID:icalendar-ruby
CALSCALE:GREGORIAN
METHOD:PUBLISH
BEGIN:VEVENT
DTSTAMP:20260419T190254Z
UID:18-311304@standrewspkb.org
DTSTART:20260906T150000Z
DTEND:20260906T160000Z
CLASS:PUBLIC
CREATED:20260307T065222
DESCRIPTION:
LAST-MODIFIED:20260307T065222
LOCATION:
SUMMARY:Sunday School Classes (morning)
URL;VALUE=URI:https://www.standrewspkb.org/events/sunday-school-classes-mor
 ning/2026-09-06
END:VEVENT
END:VCALENDAR
